{
 "currentVersion": 10.81,
 "serviceDescription": "2022 Orhto",
 "name": "2022_ORTHO_13081E479952N",
 "description": "2022 Orhto",
 "extent": {
  "xmin": 1308120,
  "ymin": 479952,
  "xmax": 1355640,
  "ymax": 516912.25,
  "spatialReference": {
   "wkid": 102723,
   "latestWkid": 3735
  }
 },
 "initialExtent": {
  "xmin": 1308120,
  "ymin": 479952,
  "xmax": 1355640,
  "ymax": 516912.25,
  "spatialReference": {
   "wkid": 102723,
   "latestWkid": 3735
  }
 },
 "fullExtent": {
  "xmin": 1308120,
  "ymin": 479952,
  "xmax": 1355640,
  "ymax": 516912.25,
  "spatialReference": {
   "wkid": 102723,
   "latestWkid": 3735
  }
 },
 "pixelSizeX": 0.25,
 "pixelSizeY": 0.25,
 "bandCount": 3,
 "pixelType": "U8",
 "minPixelSize": 0,
 "maxPixelSize": 0,
 "copyrightText": "",
 "serviceDataType": "esriImageServiceDataTypeProcessed",
 "minValues": [
  50,
  33,
  17
 ],
 "maxValues": [
  245,
  223,
  181
 ],
 "meanValues": [
  143.82471645309,
  124.67594638386,
  89.163205184858
 ],
 "stdvValues": [
  26.649493879267,
  26.812675880435,
  24.140958035289
 ],
 "objectIdField": "",
 "fields": [],
 "capabilities": "Image,Metadata,Mensuration",
 "defaultMosaicMethod": "Center",
 "allowedMosaicMethods": "",
 "sortField": "",
 "sortValue": null,
 "sortAscending": true,
 "mosaicOperator": "First",
 "defaultCompressionQuality": 75,
 "defaultResamplingMethod": "Bilinear",
 "maxImageHeight": 4100,
 "maxImageWidth": 15000,
 "allowRasterFunction": true,
 "rasterFunctionInfos": [
  {
   "name": "None",
   "description": "",
   "help": ""
  }
 ],
 "rasterTypeInfos": [
  {
   "name": "Raster Dataset",
   "description": "Supports all ArcGIS Raster Datasets",
   "help": ""
  }
 ],
 "mensurationCapabilities": "Basic",
 "hasHistograms": true,
 "hasColormap": false,
 "hasRasterAttributeTable": false,
 "minScale": 0,
 "maxScale": 0,
 "exportTilesAllowed": false,
 "hasMultidimensions": false,
 "supportsStatistics": false,
 "supportsAdvancedQueries": false,
 "editFieldsInfo": null,
 "ownershipBasedAccessControlForRasters": null,
 "allowComputeTiePoints": false,
 "useStandardizedQueries": true,
 "advancedQueryCapabilities": {
  "useStandardizedQueries": true,
  "supportsStatistics": false,
  "supportsOrderBy": false,
  "supportsDistinct": false,
  "supportsPagination": false
 },
 "spatialReference": {
  "wkid": 102723,
  "latestWkid": 3735
 }
}
