{
 "currentVersion": 10.81,
 "serviceDescription": "2022 Ortho 13398E516912N",
 "name": "2022_ORTHO_13398E516912N",
 "description": "2022 Ortho 13398E516912N",
 "extent": {
  "xmin": 1339800,
  "ymin": 516912.25,
  "xmax": 1366200,
  "ymax": 580272,
  "spatialReference": {
   "wkid": 102723,
   "latestWkid": 3735
  }
 },
 "initialExtent": {
  "xmin": 1339800,
  "ymin": 516912.25,
  "xmax": 1366200,
  "ymax": 580272,
  "spatialReference": {
   "wkid": 102723,
   "latestWkid": 3735
  }
 },
 "fullExtent": {
  "xmin": 1339800,
  "ymin": 516912.25,
  "xmax": 1366200,
  "ymax": 580272,
  "spatialReference": {
   "wkid": 102723,
   "latestWkid": 3735
  }
 },
 "pixelSizeX": 0.25,
 "pixelSizeY": 0.25,
 "bandCount": 3,
 "pixelType": "U8",
 "minPixelSize": 0,
 "maxPixelSize": 0,
 "copyrightText": "",
 "serviceDataType": "esriImageServiceDataTypeProcessed",
 "minValues": [
  45,
  26,
  12
 ],
 "maxValues": [
  232,
  214,
  184
 ],
 "meanValues": [
  140.62996277916,
  123.74596774194,
  92.050558312655
 ],
 "stdvValues": [
  27.843008272743,
  27.497292600658,
  24.725614343249
 ],
 "objectIdField": "",
 "fields": [],
 "capabilities": "Image,Metadata,Mensuration",
 "defaultMosaicMethod": "Center",
 "allowedMosaicMethods": "",
 "sortField": "",
 "sortValue": null,
 "sortAscending": true,
 "mosaicOperator": "First",
 "defaultCompressionQuality": 75,
 "defaultResamplingMethod": "Bilinear",
 "maxImageHeight": 4100,
 "maxImageWidth": 15000,
 "allowRasterFunction": true,
 "rasterFunctionInfos": [
  {
   "name": "None",
   "description": "",
   "help": ""
  }
 ],
 "rasterTypeInfos": [
  {
   "name": "Raster Dataset",
   "description": "Supports all ArcGIS Raster Datasets",
   "help": ""
  }
 ],
 "mensurationCapabilities": "Basic",
 "hasHistograms": true,
 "hasColormap": false,
 "hasRasterAttributeTable": false,
 "minScale": 0,
 "maxScale": 0,
 "exportTilesAllowed": false,
 "hasMultidimensions": false,
 "supportsStatistics": false,
 "supportsAdvancedQueries": false,
 "editFieldsInfo": null,
 "ownershipBasedAccessControlForRasters": null,
 "allowComputeTiePoints": false,
 "useStandardizedQueries": true,
 "advancedQueryCapabilities": {
  "useStandardizedQueries": true,
  "supportsStatistics": false,
  "supportsOrderBy": false,
  "supportsDistinct": false,
  "supportsPagination": false
 },
 "spatialReference": {
  "wkid": 102723,
  "latestWkid": 3735
 }
}
