{
 "currentVersion": 10.81,
 "serviceDescription": "2022 Orthos 14137E474672N",
 "name": "2022_ORTHO_14137E474672N",
 "description": "2022 Orthos 14137E474672N",
 "extent": {
  "xmin": 1403160,
  "ymin": 474672,
  "xmax": 1434840,
  "ymax": 516912.25,
  "spatialReference": {
   "wkid": 102723,
   "latestWkid": 3735
  }
 },
 "initialExtent": {
  "xmin": 1403160,
  "ymin": 474672,
  "xmax": 1434840,
  "ymax": 516912.25,
  "spatialReference": {
   "wkid": 102723,
   "latestWkid": 3735
  }
 },
 "fullExtent": {
  "xmin": 1403160,
  "ymin": 474672,
  "xmax": 1434840,
  "ymax": 516912.25,
  "spatialReference": {
   "wkid": 102723,
   "latestWkid": 3735
  }
 },
 "pixelSizeX": 0.25,
 "pixelSizeY": 0.25,
 "bandCount": 3,
 "pixelType": "U8",
 "minPixelSize": 0,
 "maxPixelSize": 0,
 "copyrightText": "",
 "serviceDataType": "esriImageServiceDataTypeProcessed",
 "minValues": [
  33,
  24,
  0
 ],
 "maxValues": [
  255,
  255,
  255
 ],
 "meanValues": [
  137.86863583366,
  126.20171006607,
  99.451612903226
 ],
 "stdvValues": [
  33.069551826873,
  35.743756572036,
  41.127848149816
 ],
 "objectIdField": "",
 "fields": [],
 "capabilities": "Image,Metadata,Mensuration",
 "defaultMosaicMethod": "Center",
 "allowedMosaicMethods": "",
 "sortField": "",
 "sortValue": null,
 "sortAscending": true,
 "mosaicOperator": "First",
 "defaultCompressionQuality": 75,
 "defaultResamplingMethod": "Bilinear",
 "maxImageHeight": 4100,
 "maxImageWidth": 15000,
 "allowRasterFunction": true,
 "rasterFunctionInfos": [
  {
   "name": "None",
   "description": "",
   "help": ""
  }
 ],
 "rasterTypeInfos": [
  {
   "name": "Raster Dataset",
   "description": "Supports all ArcGIS Raster Datasets",
   "help": ""
  }
 ],
 "mensurationCapabilities": "Basic",
 "hasHistograms": true,
 "hasColormap": false,
 "hasRasterAttributeTable": false,
 "minScale": 0,
 "maxScale": 0,
 "exportTilesAllowed": false,
 "hasMultidimensions": false,
 "supportsStatistics": false,
 "supportsAdvancedQueries": false,
 "editFieldsInfo": null,
 "ownershipBasedAccessControlForRasters": null,
 "allowComputeTiePoints": false,
 "useStandardizedQueries": true,
 "advancedQueryCapabilities": {
  "useStandardizedQueries": true,
  "supportsStatistics": false,
  "supportsOrderBy": false,
  "supportsDistinct": false,
  "supportsPagination": false
 },
 "spatialReference": {
  "wkid": 102723,
  "latestWkid": 3735
 }
}
