View In:
ArcGIS JavaScript
ArcGIS Online Map Viewer
ArcGIS Earth
ArcMap
View Footprint In:
ArcGIS Online Map Viewer
Service Description: 2018 Ortho
Name: 2018_Ortho
Description: 2018 Ortho
Single Fused Map Cache: false
Extent:
XMin: 1311727.6666666649
YMin: 473781.001117385
XMax: 1456936.998547905
YMax: 585519.999999995
Spatial Reference: 102723
(3735)
Initial Extent:
XMin: 1311727.6666666649
YMin: 473781.001117385
XMax: 1456936.998547905
YMax: 585519.999999995
Spatial Reference: 102723
(3735)
Full Extent:
XMin: 1311727.6666666649
YMin: 473781.001117385
XMax: 1456936.998547905
YMax: 585519.999999995
Spatial Reference: 102723
(3735)
Pixel Size X: 0.33333333000000004
Pixel Size Y: 0.33333333
Band Count: 4
Pixel Type: U8
RasterFunction Infos: {"rasterFunctionInfos": [{
"name": "None",
"description": "",
"help": ""
}]}
Mensuration Capabilities: Basic
Has Histograms: true
Has Colormap: false
Has Multi Dimensions : false
Rendering Rule:
Min Scale: 0
Max Scale: 0
Copyright Text: Butler County
Service Data Type: esriImageServiceDataTypeGeneric
Min Values: 0, 0, 0, 0
Max Values: 253, 230, 214, 255
Mean Values: 118.89708228858, 105.17403692729, 76.195349897424, 223.01310690677
Standard Deviation Values: 50.205974270397, 44.42162729674, 33.454924221557, 82.840875237195
Object ID Field:
Fields:
None
Default Mosaic Method: Center
Allowed Mosaic Methods:
SortField:
SortValue: null
Mosaic Operator: First
Default Compression Quality: 75
Default Resampling Method: Bilinear
Max Record Count: null
Max Image Height: 4100
Max Image Width: 15000
Max Download Image Count: null
Max Mosaic Image Count: null
Allow Raster Function: true
Allow Copy: null
Allow Analysis: null
Allow Compute TiePoints: false
Supports Statistics: false
Supports Advanced Queries: false
Use StandardizedQueries: true
Raster Type Infos:
Name: Raster Dataset
Description: Supports all ArcGIS Raster Datasets
Help:
Has Raster Attribute Table: false
Edit Fields Info: null
Ownership Based AccessControl For Rasters: null
Child Resources:
Info
Histograms
Key Properties
Legend
Raster Function Infos
Supported Operations:
Export Image
Identify
Measure
Compute Histograms
Compute Statistics Histograms
Get Samples
Compute Class Statistics
Query Boundary
Compute Pixel Location
Validate
Project