View In:
ArcGIS JavaScript
ArcGIS Online Map Viewer
ArcGIS Earth
ArcMap
View Footprint In:
ArcGIS Online Map Viewer
Service Description: 2022 Ortho 14348E474672N
Name: 2022_ORTHO_14348E474672N
Description: 2022 Ortho 14348E474672N
Single Fused Map Cache: false
Extent:
XMin: 1434840
YMin: 474672
XMax: 1450680
YMax: 553872
Spatial Reference: 102723
(3735)
Initial Extent:
XMin: 1434840
YMin: 474672
XMax: 1450680
YMax: 553872
Spatial Reference: 102723
(3735)
Full Extent:
XMin: 1434840
YMin: 474672
XMax: 1450680
YMax: 553872
Spatial Reference: 102723
(3735)
Pixel Size X: 0.25
Pixel Size Y: 0.25
Band Count: 3
Pixel Type: U8
RasterFunction Infos: {"rasterFunctionInfos": [{
"name": "None",
"description": "",
"help": ""
}]}
Mensuration Capabilities: Basic
Has Histograms: true
Has Colormap: false
Has Multi Dimensions : false
Rendering Rule:
Min Scale: 0
Max Scale: 0
Copyright Text:
Service Data Type: esriImageServiceDataTypeProcessed
Min Values: 0, 22, 0
Max Values: 255, 255, 255
Mean Values: 142.02372528616, 129.53980228928, 102.24604578564
Standard Deviation Values: 38.645374805047, 41.058703026736, 47.156365001117
Object ID Field:
Fields:
None
Default Mosaic Method: Center
Allowed Mosaic Methods:
SortField:
SortValue: null
Mosaic Operator: First
Default Compression Quality: 75
Default Resampling Method: Bilinear
Max Record Count: null
Max Image Height: 4100
Max Image Width: 15000
Max Download Image Count: null
Max Mosaic Image Count: null
Allow Raster Function: true
Allow Copy: null
Allow Analysis: null
Allow Compute TiePoints: false
Supports Statistics: false
Supports Advanced Queries: false
Use StandardizedQueries: true
Raster Type Infos:
Name: Raster Dataset
Description: Supports all ArcGIS Raster Datasets
Help:
Has Raster Attribute Table: false
Edit Fields Info: null
Ownership Based AccessControl For Rasters: null
Child Resources:
Info
Histograms
Key Properties
Legend
Raster Function Infos
Supported Operations:
Export Image
Identify
Measure
Compute Histograms
Compute Statistics Histograms
Get Samples
Compute Class Statistics
Query Boundary
Compute Pixel Location
Validate
Project