View In:
ArcGIS JavaScript
ArcGIS Online Map Viewer
ArcGIS Earth
ArcMap
View Footprint In:
ArcGIS Online Map Viewer
Service Description: 2022 Ortho 13398E516912N
Name: 2022_ORTHO_13398E516912N
Description: 2022 Ortho 13398E516912N
Single Fused Map Cache: false
Extent:
XMin: 1339800
YMin: 516912.25
XMax: 1366200
YMax: 580272
Spatial Reference: 102723
(3735)
Initial Extent:
XMin: 1339800
YMin: 516912.25
XMax: 1366200
YMax: 580272
Spatial Reference: 102723
(3735)
Full Extent:
XMin: 1339800
YMin: 516912.25
XMax: 1366200
YMax: 580272
Spatial Reference: 102723
(3735)
Pixel Size X: 0.25
Pixel Size Y: 0.25
Band Count: 3
Pixel Type: U8
RasterFunction Infos: {"rasterFunctionInfos": [{
"name": "None",
"description": "",
"help": ""
}]}
Mensuration Capabilities: Basic
Has Histograms: true
Has Colormap: false
Has Multi Dimensions : false
Rendering Rule:
Min Scale: 0
Max Scale: 0
Copyright Text:
Service Data Type: esriImageServiceDataTypeProcessed
Min Values: 45, 26, 12
Max Values: 232, 214, 184
Mean Values: 140.62996277916, 123.74596774194, 92.050558312655
Standard Deviation Values: 27.843008272743, 27.497292600658, 24.725614343249
Object ID Field:
Fields:
None
Default Mosaic Method: Center
Allowed Mosaic Methods:
SortField:
SortValue: null
Mosaic Operator: First
Default Compression Quality: 75
Default Resampling Method: Bilinear
Max Record Count: null
Max Image Height: 4100
Max Image Width: 15000
Max Download Image Count: null
Max Mosaic Image Count: null
Allow Raster Function: true
Allow Copy: null
Allow Analysis: null
Allow Compute TiePoints: false
Supports Statistics: false
Supports Advanced Queries: false
Use StandardizedQueries: true
Raster Type Infos:
Name: Raster Dataset
Description: Supports all ArcGIS Raster Datasets
Help:
Has Raster Attribute Table: false
Edit Fields Info: null
Ownership Based AccessControl For Rasters: null
Child Resources:
Info
Histograms
Key Properties
Legend
Raster Function Infos
Supported Operations:
Export Image
Identify
Measure
Compute Histograms
Compute Statistics Histograms
Get Samples
Compute Class Statistics
Query Boundary
Compute Pixel Location
Validate
Project